{
  "id": "wgs84",
  "title": "WGS 84 Geographic 256×256",
  "uri": "http://www.opengis.net/def/tilematrixset/OGC/1.0/WorldCRS84Quad",
  "orderedAxes": [
    "Lat",
    "Long"
  ],
  "crs": "http://www.opengis.net/def/crs/EPSG/0/4326",
  "wellKnownScaleSet": "http://www.opengis.net/def/wkss/OGC/1.0/GoogleCRS84Quad",
  "boundingBox": {
    "lowerLeft": [
      -90.00000000000003,
      -180
    ],
    "upperRight": [
      90,
      180
    ]
  },
  "tileMatrices": [
    {
      "title": "Zoom Level 0 (78.3 km/pixel)",
      "id": "0",
      "scaleDenominator": 279541132.0143588,
      "cellSize": 0.703125,
      "pointOfOrigin": [
        -180,
        90
      ],
      "tileWidth": 256,
      "tileHeight": 256,
      "matrixWidth": 2,
      "matrixHeight": 1
    },
    {
      "title": "Zoom Level 1 (39.1 km/pixel)",
      "id": "1",
      "scaleDenominator": 139770566.0071794,
      "cellSize": 0.3515625,
      "pointOfOrigin": [
        -180,
        90
      ],
      "tileWidth": 256,
      "tileHeight": 256,
      "matrixWidth": 4,
      "matrixHeight": 2
    },
    {
      "title": "Zoom Level 2 (19.6 km/pixel)",
      "id": "2",
      "scaleDenominator": 69885283.0035897,
      "cellSize": 0.17578125,
      "pointOfOrigin": [
        -180,
        90
      ],
      "tileWidth": 256,
      "tileHeight": 256,
      "matrixWidth": 8,
      "matrixHeight": 4
    },
    {
      "title": "Zoom Level 3 (9.78 km/pixel)",
      "id": "3",
      "scaleDenominator": 34942641.50179485,
      "cellSize": 0.087890625,
      "pointOfOrigin": [
        -180,
        90
      ],
      "tileWidth": 256,
      "tileHeight": 256,
      "matrixWidth": 16,
      "matrixHeight": 8
    },
    {
      "title": "Zoom Level 4 (4.89 km/pixel)",
      "id": "4",
      "scaleDenominator": 17471320.75089743,
      "cellSize": 0.0439453125,
      "pointOfOrigin": [
        -180,
        90
      ],
      "tileWidth": 256,
      "tileHeight": 256,
      "matrixWidth": 32,
      "matrixHeight": 16
    },
    {
      "title": "Zoom Level 5 (2.45 km/pixel)",
      "id": "5",
      "scaleDenominator": 8735660.375448713,
      "cellSize": 0.02197265625,
      "pointOfOrigin": [
        -180,
        90
      ],
      "tileWidth": 256,
      "tileHeight": 256,
      "matrixWidth": 64,
      "matrixHeight": 32
    },
    {
      "title": "Zoom Level 6 (1.22 km/pixel)",
      "id": "6",
      "scaleDenominator": 4367830.187724357,
      "cellSize": 0.010986328125,
      "pointOfOrigin": [
        -180,
        90
      ],
      "tileWidth": 256,
      "tileHeight": 256,
      "matrixWidth": 128,
      "matrixHeight": 64
    },
    {
      "title": "Zoom Level 7 (611 m/pixel)",
      "id": "7",
      "scaleDenominator": 2183915.093862178,
      "cellSize": 0.0054931640625,
      "pointOfOrigin": [
        -180,
        90
      ],
      "tileWidth": 256,
      "tileHeight": 256,
      "matrixWidth": 256,
      "matrixHeight": 128
    },
    {
      "title": "Zoom Level 8 (306 m/pixel)",
      "id": "8",
      "scaleDenominator": 1091957.546931089,
      "cellSize": 0.00274658203125,
      "pointOfOrigin": [
        -180,
        90
      ],
      "tileWidth": 256,
      "tileHeight": 256,
      "matrixWidth": 512,
      "matrixHeight": 256
    },
    {
      "title": "Zoom Level 9 (153 m/pixel)",
      "id": "9",
      "scaleDenominator": 545978.7734655446,
      "cellSize": 0.001373291015625,
      "pointOfOrigin": [
        -180,
        90
      ],
      "tileWidth": 256,
      "tileHeight": 256,
      "matrixWidth": 1024,
      "matrixHeight": 512
    },
    {
      "title": "Zoom Level 10 (76.4 m/pixel)",
      "id": "10",
      "scaleDenominator": 272989.3867327723,
      "cellSize": 0.0006866455078125,
      "pointOfOrigin": [
        -180,
        90
      ],
      "tileWidth": 256,
      "tileHeight": 256,
      "matrixWidth": 2048,
      "matrixHeight": 1024
    },
    {
      "title": "Zoom Level 11 (38.2 m/pixel)",
      "id": "11",
      "scaleDenominator": 136494.6933663861,
      "cellSize": 0.00034332275390625,
      "pointOfOrigin": [
        -180,
        90
      ],
      "tileWidth": 256,
      "tileHeight": 256,
      "matrixWidth": 4096,
      "matrixHeight": 2048
    },
    {
      "title": "Zoom Level 12 (19.1 m/pixel)",
      "id": "12",
      "scaleDenominator": 68247.34668319307,
      "cellSize": 0.000171661376953125,
      "pointOfOrigin": [
        -180,
        90
      ],
      "tileWidth": 256,
      "tileHeight": 256,
      "matrixWidth": 8192,
      "matrixHeight": 4096
    },
    {
      "title": "Zoom Level 13 (9.55 m/pixel)",
      "id": "13",
      "scaleDenominator": 34123.67334159654,
      "cellSize": 8.583068847656251e-05,
      "pointOfOrigin": [
        -180,
        90
      ],
      "tileWidth": 256,
      "tileHeight": 256,
      "matrixWidth": 16384,
      "matrixHeight": 8192
    },
    {
      "title": "Zoom Level 14 (4.78 m/pixel)",
      "id": "14",
      "scaleDenominator": 17061.83667079827,
      "cellSize": 4.291534423828126e-05,
      "pointOfOrigin": [
        -180,
        90
      ],
      "tileWidth": 256,
      "tileHeight": 256,
      "matrixWidth": 32768,
      "matrixHeight": 16384
    },
    {
      "title": "Zoom Level 15 (2.39 m/pixel)",
      "id": "15",
      "scaleDenominator": 8530.918335399134,
      "cellSize": 2.145767211914063e-05,
      "pointOfOrigin": [
        -180,
        90
      ],
      "tileWidth": 256,
      "tileHeight": 256,
      "matrixWidth": 65536,
      "matrixHeight": 32768
    },
    {
      "title": "Zoom Level 16 (1.19 m/pixel)",
      "id": "16",
      "scaleDenominator": 4265.459167699567,
      "cellSize": 1.072883605957031e-05,
      "pointOfOrigin": [
        -180,
        90
      ],
      "tileWidth": 256,
      "tileHeight": 256,
      "matrixWidth": 131072,
      "matrixHeight": 65536
    },
    {
      "title": "Zoom Level 17 (59.7 cm/pixel)",
      "id": "17",
      "scaleDenominator": 2132.729583849783,
      "cellSize": 5.364418029785157e-06,
      "pointOfOrigin": [
        -180,
        90
      ],
      "tileWidth": 256,
      "tileHeight": 256,
      "matrixWidth": 262144,
      "matrixHeight": 131072
    },
    {
      "title": "Zoom Level 18 (29.9 cm/pixel)",
      "id": "18",
      "scaleDenominator": 1066.364791924892,
      "cellSize": 2.682209014892579e-06,
      "pointOfOrigin": [
        -180,
        90
      ],
      "tileWidth": 256,
      "tileHeight": 256,
      "matrixWidth": 524288,
      "matrixHeight": 262144
    },
    {
      "title": "Zoom Level 19 (14.9 cm/pixel)",
      "id": "19",
      "scaleDenominator": 533.1823959624459,
      "cellSize": 1.341104507446289e-06,
      "pointOfOrigin": [
        -180,
        90
      ],
      "tileWidth": 256,
      "tileHeight": 256,
      "matrixWidth": 1048576,
      "matrixHeight": 524288
    },
    {
      "title": "Zoom Level 20 (7.46 cm/pixel)",
      "id": "20",
      "scaleDenominator": 266.5911979812229,
      "cellSize": 6.705522537231446e-07,
      "pointOfOrigin": [
        -180,
        90
      ],
      "tileWidth": 256,
      "tileHeight": 256,
      "matrixWidth": 2097152,
      "matrixHeight": 1048576
    },
    {
      "title": "Zoom Level 21 (3.73 cm/pixel)",
      "id": "21",
      "scaleDenominator": 133.2955989906115,
      "cellSize": 3.352761268615723e-07,
      "pointOfOrigin": [
        -180,
        90
      ],
      "tileWidth": 256,
      "tileHeight": 256,
      "matrixWidth": 4194304,
      "matrixHeight": 2097152
    }
  ],
  "links": [
    {
      "href": "https://test.cubewerx.com/cubewerx/cubeserv/demo/ogcapi/Daraa/tileMatrixSets/wgs84?f=json",
      "rel": "self",
      "type": "application/json",
      "title": "this tile-matrix set as JSON"
    },
    {
      "href": "https://test.cubewerx.com/cubewerx/cubeserv/demo/ogcapi/Daraa/tileMatrixSets/wgs84?f=html",
      "rel": "alternate",
      "type": "text/html",
      "title": "this tile-matrix set as HTML"
    }
  ]
}
