{
  "id": "3395",
  "title": "WGS 84 / World Mercator 256×256",
  "uri": "http://www.opengis.net/def/tilematrixset/OGC/1.0/WorldMercatorWGS84Quad",
  "orderedAxes": [
    "E",
    "N"
  ],
  "crs": "http://www.opengis.net/def/crs/EPSG/0/3395",
  "wellKnownScaleSet": "http://www.opengis.net/def/wkss/OGC/1.0/WorldMercatorWGS84",
  "boundingBox": {
    "lowerLeft": [
      -20037508.34278924,
      -20037508.34278925
    ],
    "upperRight": [
      20037508.34278925,
      20037508.34278924
    ]
  },
  "tileMatrices": [
    {
      "title": "Zoom Level 0 (157 km/pixel)",
      "id": "0",
      "scaleDenominator": 559082264.0287178,
      "cellSize": 156543.033928041,
      "pointOfOrigin": [
        -20037508.34278924,
        20037508.34278924
      ],
      "tileWidth": 256,
      "tileHeight": 256,
      "matrixWidth": 1,
      "matrixHeight": 1
    },
    {
      "title": "Zoom Level 1 (78.3 km/pixel)",
      "id": "1",
      "scaleDenominator": 279541132.0143589,
      "cellSize": 78271.5169640205,
      "pointOfOrigin": [
        -20037508.34278924,
        20037508.34278924
      ],
      "tileWidth": 256,
      "tileHeight": 256,
      "matrixWidth": 2,
      "matrixHeight": 2
    },
    {
      "title": "Zoom Level 2 (39.1 km/pixel)",
      "id": "2",
      "scaleDenominator": 139770566.0071794,
      "cellSize": 39135.75848201025,
      "pointOfOrigin": [
        -20037508.34278924,
        20037508.34278924
      ],
      "tileWidth": 256,
      "tileHeight": 256,
      "matrixWidth": 4,
      "matrixHeight": 4
    },
    {
      "title": "Zoom Level 3 (19.6 km/pixel)",
      "id": "3",
      "scaleDenominator": 69885283.00358972,
      "cellSize": 19567.87924100512,
      "pointOfOrigin": [
        -20037508.34278924,
        20037508.34278924
      ],
      "tileWidth": 256,
      "tileHeight": 256,
      "matrixWidth": 8,
      "matrixHeight": 8
    },
    {
      "title": "Zoom Level 4 (9.78 km/pixel)",
      "id": "4",
      "scaleDenominator": 34942641.50179486,
      "cellSize": 9783.939620502562,
      "pointOfOrigin": [
        -20037508.34278924,
        20037508.34278924
      ],
      "tileWidth": 256,
      "tileHeight": 256,
      "matrixWidth": 16,
      "matrixHeight": 16
    },
    {
      "title": "Zoom Level 5 (4.89 km/pixel)",
      "id": "5",
      "scaleDenominator": 17471320.75089743,
      "cellSize": 4891.969810251281,
      "pointOfOrigin": [
        -20037508.34278924,
        20037508.34278924
      ],
      "tileWidth": 256,
      "tileHeight": 256,
      "matrixWidth": 32,
      "matrixHeight": 32
    },
    {
      "title": "Zoom Level 6 (2.45 km/pixel)",
      "id": "6",
      "scaleDenominator": 8735660.375448715,
      "cellSize": 2445.984905125641,
      "pointOfOrigin": [
        -20037508.34278924,
        20037508.34278924
      ],
      "tileWidth": 256,
      "tileHeight": 256,
      "matrixWidth": 64,
      "matrixHeight": 64
    },
    {
      "title": "Zoom Level 7 (1.22 km/pixel)",
      "id": "7",
      "scaleDenominator": 4367830.187724357,
      "cellSize": 1222.99245256282,
      "pointOfOrigin": [
        -20037508.34278924,
        20037508.34278924
      ],
      "tileWidth": 256,
      "tileHeight": 256,
      "matrixWidth": 128,
      "matrixHeight": 128
    },
    {
      "title": "Zoom Level 8 (611 m/pixel)",
      "id": "8",
      "scaleDenominator": 2183915.093862179,
      "cellSize": 611.49622628141,
      "pointOfOrigin": [
        -20037508.34278924,
        20037508.34278924
      ],
      "tileWidth": 256,
      "tileHeight": 256,
      "matrixWidth": 256,
      "matrixHeight": 256
    },
    {
      "title": "Zoom Level 9 (306 m/pixel)",
      "id": "9",
      "scaleDenominator": 1091957.546931089,
      "cellSize": 305.7481131407051,
      "pointOfOrigin": [
        -20037508.34278924,
        20037508.34278924
      ],
      "tileWidth": 256,
      "tileHeight": 256,
      "matrixWidth": 512,
      "matrixHeight": 512
    },
    {
      "title": "Zoom Level 10 (153 m/pixel)",
      "id": "10",
      "scaleDenominator": 545978.7734655447,
      "cellSize": 152.8740565703525,
      "pointOfOrigin": [
        -20037508.34278924,
        20037508.34278924
      ],
      "tileWidth": 256,
      "tileHeight": 256,
      "matrixWidth": 1024,
      "matrixHeight": 1024
    },
    {
      "title": "Zoom Level 11 (76.4 m/pixel)",
      "id": "11",
      "scaleDenominator": 272989.3867327723,
      "cellSize": 76.43702828517627,
      "pointOfOrigin": [
        -20037508.34278924,
        20037508.34278924
      ],
      "tileWidth": 256,
      "tileHeight": 256,
      "matrixWidth": 2048,
      "matrixHeight": 2048
    },
    {
      "title": "Zoom Level 12 (38.2 m/pixel)",
      "id": "12",
      "scaleDenominator": 136494.6933663862,
      "cellSize": 38.21851414258813,
      "pointOfOrigin": [
        -20037508.34278924,
        20037508.34278924
      ],
      "tileWidth": 256,
      "tileHeight": 256,
      "matrixWidth": 4096,
      "matrixHeight": 4096
    },
    {
      "title": "Zoom Level 13 (19.1 m/pixel)",
      "id": "13",
      "scaleDenominator": 68247.34668319309,
      "cellSize": 19.10925707129407,
      "pointOfOrigin": [
        -20037508.34278924,
        20037508.34278924
      ],
      "tileWidth": 256,
      "tileHeight": 256,
      "matrixWidth": 8192,
      "matrixHeight": 8192
    },
    {
      "title": "Zoom Level 14 (9.55 m/pixel)",
      "id": "14",
      "scaleDenominator": 34123.67334159654,
      "cellSize": 9.554628535647034,
      "pointOfOrigin": [
        -20037508.34278924,
        20037508.34278924
      ],
      "tileWidth": 256,
      "tileHeight": 256,
      "matrixWidth": 16384,
      "matrixHeight": 16384
    },
    {
      "title": "Zoom Level 15 (4.78 m/pixel)",
      "id": "15",
      "scaleDenominator": 17061.83667079827,
      "cellSize": 4.777314267823517,
      "pointOfOrigin": [
        -20037508.34278924,
        20037508.34278924
      ],
      "tileWidth": 256,
      "tileHeight": 256,
      "matrixWidth": 32768,
      "matrixHeight": 32768
    },
    {
      "title": "Zoom Level 16 (2.39 m/pixel)",
      "id": "16",
      "scaleDenominator": 8530.918335399136,
      "cellSize": 2.388657133911758,
      "pointOfOrigin": [
        -20037508.34278924,
        20037508.34278924
      ],
      "tileWidth": 256,
      "tileHeight": 256,
      "matrixWidth": 65536,
      "matrixHeight": 65536
    },
    {
      "title": "Zoom Level 17 (1.19 m/pixel)",
      "id": "17",
      "scaleDenominator": 4265.459167699568,
      "cellSize": 1.194328566955879,
      "pointOfOrigin": [
        -20037508.34278924,
        20037508.34278924
      ],
      "tileWidth": 256,
      "tileHeight": 256,
      "matrixWidth": 131072,
      "matrixHeight": 131072
    },
    {
      "title": "Zoom Level 18 (59.7 cm/pixel)",
      "id": "18",
      "scaleDenominator": 2132.729583849784,
      "cellSize": 0.5971642834779396,
      "pointOfOrigin": [
        -20037508.34278924,
        20037508.34278924
      ],
      "tileWidth": 256,
      "tileHeight": 256,
      "matrixWidth": 262144,
      "matrixHeight": 262144
    },
    {
      "title": "Zoom Level 19 (29.9 cm/pixel)",
      "id": "19",
      "scaleDenominator": 1066.364791924892,
      "cellSize": 0.2985821417389698,
      "pointOfOrigin": [
        -20037508.34278924,
        20037508.34278924
      ],
      "tileWidth": 256,
      "tileHeight": 256,
      "matrixWidth": 524288,
      "matrixHeight": 524288
    },
    {
      "title": "Zoom Level 20 (14.9 cm/pixel)",
      "id": "20",
      "scaleDenominator": 533.182395962446,
      "cellSize": 0.1492910708694849,
      "pointOfOrigin": [
        -20037508.34278924,
        20037508.34278924
      ],
      "tileWidth": 256,
      "tileHeight": 256,
      "matrixWidth": 1048576,
      "matrixHeight": 1048576
    },
    {
      "title": "Zoom Level 21 (7.46 cm/pixel)",
      "id": "21",
      "scaleDenominator": 266.591197981223,
      "cellSize": 0.07464553543474245,
      "pointOfOrigin": [
        -20037508.34278924,
        20037508.34278924
      ],
      "tileWidth": 256,
      "tileHeight": 256,
      "matrixWidth": 2097152,
      "matrixHeight": 2097152
    },
    {
      "title": "Zoom Level 22 (3.73 cm/pixel)",
      "id": "22",
      "scaleDenominator": 133.2955989906115,
      "cellSize": 0.03732276771737122,
      "pointOfOrigin": [
        -20037508.34278924,
        20037508.34278924
      ],
      "tileWidth": 256,
      "tileHeight": 256,
      "matrixWidth": 4194304,
      "matrixHeight": 4194304
    }
  ],
  "links": [
    {
      "href": "https://test.cubewerx.com/cubewerx/cubeserv/demo/ogcapi/Foundation/tileMatrixSets/3395?f=json",
      "rel": "self",
      "type": "application/json",
      "title": "this tile-matrix set as JSON"
    },
    {
      "href": "https://test.cubewerx.com/cubewerx/cubeserv/demo/ogcapi/Foundation/tileMatrixSets/3395?f=html",
      "rel": "alternate",
      "type": "text/html",
      "title": "this tile-matrix set as HTML"
    }
  ]
}
